BEGIN:VCALENDAR
VERSION:2.0
PRODID:icalendar-ruby
CALSCALE:GREGORIAN
METHOD:PUBLISH
BEGIN:VEVENT
DTSTAMP:20260425T125125Z
UID:122-414949@mysp.church
DTSTART;VALUE=DATE:20260507
DTEND;VALUE=DATE:20260511
CLASS:PUBLIC
CREATED:20260424T105906
DESCRIPTION:What would it look like if the Church across Prescott came toge
 ther as one?\nOn May 2\, Starting Point is praying together--wherever we l
 ive--for our nation and community. \nOn May 7 at 6pm\, we’re gathering 
 in downtown Prescott with believers from across our city for the National 
 Day of Prayer—a night to seek God\, worship together\, and pray for our 
 community.\nThis isn’t about one church. It’s about THE Church.\nLet
 ’s come together with one voice in prayer.\n  \nprescottprays.com
LAST-MODIFIED:20260424T105906
LOCATION:Downtown Prescott
SUMMARY:Day of Prayer
URL;VALUE=URI:https://mysp.church/events/day-of-prayer/2026-05-07
ATTACH;FILENAME=Day-of-Prayer.jpg;FMTTYPE=image/jpeg:https://dq5pwpg1q8ru0.
 cloudfront.net/2026/04/24/17/59/05/10c0b7bd-d703-4b9d-8af3-509f990d4724/Da
 y-of-Prayer.jpg
END:VEVENT
END:VCALENDAR
